BEGIN:VCALENDAR
VERSION:2.0
PRODID:-//Archer Lodge Community Center - ECPv6.15.20//NONSGML v1.0//EN
CALSCALE:GREGORIAN
METHOD:PUBLISH
X-ORIGINAL-URL:https://archerlodge.org
X-WR-CALDESC:Events for Archer Lodge Community Center
REFRESH-INTERVAL;VALUE=DURATION:PT1H
X-Robots-Tag:noindex
X-PUBLISHED-TTL:PT1H
BEGIN:VTIMEZONE
TZID:America/New_York
BEGIN:DAYLIGHT
TZOFFSETFROM:-0500
TZOFFSETTO:-0400
TZNAME:EDT
DTSTART:20220313T070000
END:DAYLIGHT
BEGIN:STANDARD
TZOFFSETFROM:-0400
TZOFFSETTO:-0500
TZNAME:EST
DTSTART:20221106T060000
END:STANDARD
BEGIN:DAYLIGHT
TZOFFSETFROM:-0500
TZOFFSETTO:-0400
TZNAME:EDT
DTSTART:20230312T070000
END:DAYLIGHT
BEGIN:STANDARD
TZOFFSETFROM:-0400
TZOFFSETTO:-0500
TZNAME:EST
DTSTART:20231105T060000
END:STANDARD
BEGIN:DAYLIGHT
TZOFFSETFROM:-0500
TZOFFSETTO:-0400
TZNAME:EDT
DTSTART:20240310T070000
END:DAYLIGHT
BEGIN:STANDARD
TZOFFSETFROM:-0400
TZOFFSETTO:-0500
TZNAME:EST
DTSTART:20241103T060000
END:STANDARD
END:VTIMEZONE
BEGIN:VEVENT
DTSTART;VALUE=DATE:20230701
DTEND;VALUE=DATE:20230702
DTSTAMP:20260425T124157
CREATED:20230408T222437Z
LAST-MODIFIED:20230408T222437Z
UID:14515-1688169600-1688255999@archerlodge.org
SUMMARY:Archer Lodge Family Fun Day 2023
DESCRIPTION:
URL:https://archerlodge.org/event/archer-lodge-family-fun-day-2023/
LOCATION:Archer Lodge Community Center\, 14009 Buffalo Road\, Clayton\, NC\, 27527\, United States
CATEGORIES:Community Event
ATTACH;FMTTYPE=image/jpeg:https://archerlodge.org/wp-content/uploads/2023/04/337049884_917740542766381_442190303703579334_n.jpg
END:VEVENT
END:VCALENDAR