BEGIN:VCALENDAR
VERSION:2.0
PRODID:-//Archer Lodge Community Center - ECPv6.15.20//NONSGML v1.0//EN
CALSCALE:GREGORIAN
METHOD:PUBLISH
X-WR-CALNAME:Archer Lodge Community Center
X-ORIGINAL-URL:https://archerlodge.org
X-WR-CALDESC:Events for Archer Lodge Community Center
REFRESH-INTERVAL;VALUE=DURATION:PT1H
X-Robots-Tag:noindex
X-PUBLISHED-TTL:PT1H
BEGIN:VTIMEZONE
TZID:America/New_York
BEGIN:DAYLIGHT
TZOFFSETFROM:-0500
TZOFFSETTO:-0400
TZNAME:EDT
DTSTART:20250309T070000
END:DAYLIGHT
BEGIN:STANDARD
TZOFFSETFROM:-0400
TZOFFSETTO:-0500
TZNAME:EST
DTSTART:20251102T060000
END:STANDARD
BEGIN:DAYLIGHT
TZOFFSETFROM:-0500
TZOFFSETTO:-0400
TZNAME:EDT
DTSTART:20260308T070000
END:DAYLIGHT
BEGIN:STANDARD
TZOFFSETFROM:-0400
TZOFFSETTO:-0500
TZNAME:EST
DTSTART:20261101T060000
END:STANDARD
BEGIN:DAYLIGHT
TZOFFSETFROM:-0500
TZOFFSETTO:-0400
TZNAME:EDT
DTSTART:20270314T070000
END:DAYLIGHT
BEGIN:STANDARD
TZOFFSETFROM:-0400
TZOFFSETTO:-0500
TZNAME:EST
DTSTART:20271107T060000
END:STANDARD
END:VTIMEZONE
BEGIN:VEVENT
DTSTART;VALUE=DATE:20260101
DTEND;VALUE=DATE:20260206
DTSTAMP:20260421T015950
CREATED:20260112T183027Z
LAST-MODIFIED:20260112T183027Z
UID:42347-1767225600-1770335999@archerlodge.org
SUMMARY:Baseball\, Softball & Soccer Registration
DESCRIPTION:Registration is now open!!! Head on over to https://parksrec.egov.basgov.com/archerlodgenc/Search…*** If you would like to sponsor a team this year\, please email johnstoncountylittleleague@gmail.com
URL:https://archerlodge.org/event/baseball-softball-soccer-registration/
LOCATION:Archer Lodge Town Park\, 2636 Castleberry Rd.\, Archer Lodge\, 27527\, United States
CATEGORIES:Sports
ATTACH;FMTTYPE=image/png:https://archerlodge.org/wp-content/uploads/2022/01/ALCC-SportsReg.png
END:VEVENT
BEGIN:VEVENT
DTSTART;TZID=America/New_York:20260101T100000
DTEND;TZID=America/New_York:20260101T113000
DTSTAMP:20260421T015950
CREATED:20251201T145902Z
LAST-MODIFIED:20251201T145902Z
UID:41465-1767261600-1767267000@archerlodge.org
SUMMARY:New Year's Brunch 2026
DESCRIPTION:The New Year is right around the corner! Start the year off right by joining us for a New Year’s Day brunch. The Community Center will provide pancakes\, eggs\, sausage\, bacon\, grits\, sausage gravy\, and more.
URL:https://archerlodge.org/event/new-years-brunch-2026/
LOCATION:Archer Lodge Community Center\, 14009 Buffalo Road\, Clayton\, NC\, 27527\, United States
CATEGORIES:Community Event
ATTACH;FMTTYPE=image/png:https://archerlodge.org/wp-content/uploads/2021/12/New-Years-Brunch.png
END:VEVENT
BEGIN:VEVENT
DTSTART;TZID=America/New_York:20260106T100000
DTEND;TZID=America/New_York:20260106T120000
DTSTAMP:20260421T015950
CREATED:20251201T154008Z
LAST-MODIFIED:20251201T154008Z
UID:41481-1767693600-1767700800@archerlodge.org
SUMMARY:Senior Activity Mornings
DESCRIPTION:Senior Activity Mornings at Archer Lodge Community Center \n1st and 3rd Tuesday of the month \n10 AM to Noon \nLunch to follow
URL:https://archerlodge.org/event/senior-activity-mornings-jan6-2026/
LOCATION:Archer Lodge Community Center\, 14009 Buffalo Road\, Clayton\, NC\, 27527\, United States
CATEGORIES:Community Event,Seniors
ATTACH;FMTTYPE=image/jpeg:https://archerlodge.org/wp-content/uploads/2023/04/SAM-Senior-Activity-Mornings-Archer-Lodge-01-1-1.jpg
END:VEVENT
BEGIN:VEVENT
DTSTART;TZID=America/New_York:20260120T100000
DTEND;TZID=America/New_York:20260120T120000
DTSTAMP:20260421T015950
CREATED:20260112T183346Z
LAST-MODIFIED:20260112T183346Z
UID:42349-1768903200-1768910400@archerlodge.org
SUMMARY:Senior Activity Mornings
DESCRIPTION:Senior Activity Mornings at Archer Lodge Community Center \n1st and 3rd Tuesday of the month \n10 AM to Noon \nLunch to follow
URL:https://archerlodge.org/event/senior-activity-mornings-012026/
LOCATION:Archer Lodge Community Center\, 14009 Buffalo Road\, Clayton\, NC\, 27527\, United States
CATEGORIES:Community Event,Seniors
ATTACH;FMTTYPE=image/jpeg:https://archerlodge.org/wp-content/uploads/2023/04/SAM-Senior-Activity-Mornings-Archer-Lodge-01-1-1.jpg
END:VEVENT
BEGIN:VEVENT
DTSTART;TZID=America/New_York:20260126T183000
DTEND;TZID=America/New_York:20260126T200000
DTSTAMP:20260421T015950
CREATED:20251201T145250Z
LAST-MODIFIED:20251201T145250Z
UID:41463-1769452200-1769457600@archerlodge.org
SUMMARY:January 2026 Free Community Meal
DESCRIPTION:A meal will be served at 6:30 pm\, the meeting is at 7:00.\n\nMeal: TBD\n\n**Feel free to bring a dessert to share**\n\nDONATIONS ACCEPTED\nInvite your friends and neighbors to come find out what’s going on in your community.
URL:https://archerlodge.org/event/jan-2026-free-community-meal/
LOCATION:Archer Lodge Community Center\, 14009 Buffalo Road\, Clayton\, NC\, 27527\, United States
CATEGORIES:Community Meal
ATTACH;FMTTYPE=image/png:https://archerlodge.org/wp-content/uploads/2021/07/Monthly-Community-Meeting.png
END:VEVENT
END:VCALENDAR