BEGIN:VCALENDAR
VERSION:2.0
PRODID:-//Archer Lodge Community Center - ECPv6.15.20//NONSGML v1.0//EN
CALSCALE:GREGORIAN
METHOD:PUBLISH
X-WR-CALNAME:Archer Lodge Community Center
X-ORIGINAL-URL:https://archerlodge.org
X-WR-CALDESC:Events for Archer Lodge Community Center
REFRESH-INTERVAL;VALUE=DURATION:PT1H
X-Robots-Tag:noindex
X-PUBLISHED-TTL:PT1H
BEGIN:VTIMEZONE
TZID:America/New_York
BEGIN:DAYLIGHT
TZOFFSETFROM:-0500
TZOFFSETTO:-0400
TZNAME:EDT
DTSTART:20200308T070000
END:DAYLIGHT
BEGIN:STANDARD
TZOFFSETFROM:-0400
TZOFFSETTO:-0500
TZNAME:EST
DTSTART:20201101T060000
END:STANDARD
BEGIN:DAYLIGHT
TZOFFSETFROM:-0500
TZOFFSETTO:-0400
TZNAME:EDT
DTSTART:20210314T070000
END:DAYLIGHT
BEGIN:STANDARD
TZOFFSETFROM:-0400
TZOFFSETTO:-0500
TZNAME:EST
DTSTART:20211107T060000
END:STANDARD
BEGIN:DAYLIGHT
TZOFFSETFROM:-0500
TZOFFSETTO:-0400
TZNAME:EDT
DTSTART:20220313T070000
END:DAYLIGHT
BEGIN:STANDARD
TZOFFSETFROM:-0400
TZOFFSETTO:-0500
TZNAME:EST
DTSTART:20221106T060000
END:STANDARD
END:VTIMEZONE
BEGIN:VEVENT
DTSTART;TZID=America/New_York:20210514T180000
DTEND;TZID=America/New_York:20210514T200000
DTSTAMP:20260419T201956
CREATED:20210504T222532Z
LAST-MODIFIED:20210505T024523Z
UID:8035-1621015200-1621022400@archerlodge.org
SUMMARY:Military Patriots Camp
DESCRIPTION:Army\, Navy\, Air Force\, Marines\, Coast Guard. Become a Snapology Patriot as you build your training camp\, Navy flags\, Air Force jets and Coast Guard boats – all using LEGO® bricks. Who said kids can’t join the military? Be all you can be with Snapology! \nThis class will be led by a real Army Officer. Major Nova will show kids how to pitch a tent and show kids what soldiers eat while in the field. \nCelebrate Armed Forces Day \nAges 7-12
URL:https://archerlodge.org/event/military-patriots-camp/
LOCATION:Archer Lodge Community Center\, 14009 Buffalo Road\, Clayton\, NC\, 27527\, United States
CATEGORIES:Camp,Snapology Sunset Camp
END:VEVENT
BEGIN:VEVENT
DTSTART;TZID=America/New_York:20210515T100000
DTEND;TZID=America/New_York:20210515T140000
DTSTAMP:20260419T201956
CREATED:20210408T045153Z
LAST-MODIFIED:20210428T164054Z
UID:7897-1621072800-1621087200@archerlodge.org
SUMMARY:Community Shredding Event
DESCRIPTION:
URL:https://archerlodge.org/event/community-shredding-event-may-2021/
LOCATION:Archer Lodge Town Hall\, 14094 Buffalo Rd\, Archer Lodge\, NC\, 27527\, United States
CATEGORIES:Community Event
ATTACH;FMTTYPE=image/jpeg:https://archerlodge.org/wp-content/uploads/2021/04/AL-Proshred-Shred-Event-4.10.21.jpg
END:VEVENT
END:VCALENDAR