BEGIN:VCALENDAR
VERSION:2.0
PRODID:-//Archer Lodge Community Center - ECPv6.15.20//NONSGML v1.0//EN
CALSCALE:GREGORIAN
METHOD:PUBLISH
X-ORIGINAL-URL:https://archerlodge.org
X-WR-CALDESC:Events for Archer Lodge Community Center
REFRESH-INTERVAL;VALUE=DURATION:PT1H
X-Robots-Tag:noindex
X-PUBLISHED-TTL:PT1H
BEGIN:VTIMEZONE
TZID:America/New_York
BEGIN:DAYLIGHT
TZOFFSETFROM:-0500
TZOFFSETTO:-0400
TZNAME:EDT
DTSTART:20200308T070000
END:DAYLIGHT
BEGIN:STANDARD
TZOFFSETFROM:-0400
TZOFFSETTO:-0500
TZNAME:EST
DTSTART:20201101T060000
END:STANDARD
BEGIN:DAYLIGHT
TZOFFSETFROM:-0500
TZOFFSETTO:-0400
TZNAME:EDT
DTSTART:20210314T070000
END:DAYLIGHT
BEGIN:STANDARD
TZOFFSETFROM:-0400
TZOFFSETTO:-0500
TZNAME:EST
DTSTART:20211107T060000
END:STANDARD
BEGIN:DAYLIGHT
TZOFFSETFROM:-0500
TZOFFSETTO:-0400
TZNAME:EDT
DTSTART:20220313T070000
END:DAYLIGHT
BEGIN:STANDARD
TZOFFSETFROM:-0400
TZOFFSETTO:-0500
TZNAME:EST
DTSTART:20221106T060000
END:STANDARD
END:VTIMEZONE
BEGIN:VEVENT
DTSTART;TZID=America/New_York:20210621T090000
DTEND;TZID=America/New_York:20210625T160000
DTSTAMP:20260421T220052
CREATED:20210504T222953Z
LAST-MODIFIED:20210505T024649Z
UID:8041-1624266000-1624636800@archerlodge.org
SUMMARY:S.T.E.A.M. Specialty Camp
DESCRIPTION:In Snapology’s STEAM Club\, students will actively experiment with the principles of science\, technology\, engineering\, art\, and mathematics. All programs and activities are hands-on with guided instruction from an experienced Snapologist. Our programs utilize teamwork\, communication\, and creative problem-solving as an essential part of creating a fun and productive atmosphere where students can learn\, challenge themselves\, and practice their social skills. Your learner will work with a partner to create a variety of structures\, robots\, machines\, and more to solve challenges presented to them in this exciting enrichment club! \nAges 6-12
URL:https://archerlodge.org/event/s-t-e-a-m-specialty-camp/
LOCATION:Archer Lodge Community Center\, 14009 Buffalo Road\, Clayton\, NC\, 27527\, United States
CATEGORIES:Camp,Snapology Summer Camp
END:VEVENT
BEGIN:VEVENT
DTSTART;TZID=America/New_York:20210625T190000
DTEND;TZID=America/New_York:20210625T210000
DTSTAMP:20260421T220052
CREATED:20210621T182821Z
LAST-MODIFIED:20210827T032347Z
UID:8241-1624647600-1624654800@archerlodge.org
SUMMARY:Little Miss Archer Lodge Pageant
DESCRIPTION:
URL:https://archerlodge.org/event/little-miss-archer-lodge-pageant/
LOCATION:Archer Lodge Community Center\, 14009 Buffalo Road\, Clayton\, NC\, 27527\, United States
CATEGORIES:Community Event
ATTACH;FMTTYPE=image/jpeg:https://archerlodge.org/wp-content/uploads/2021/06/Little-Miss-AL.jpg
END:VEVENT
END:VCALENDAR